BEGIN:VCALENDAR
VERSION:2.0
PRODID:-//ChamberMaster//Event Calendar 2.0//EN
METHOD:PUBLISH
X-PUBLISHED-TTL:P1H
REFRESH-INTERVAL:P1H
CALSCALE:GREGORIAN
BEGIN:VTIMEZONE
TZID:America/New_York
BEGIN:DAYLIGHT
RRULE:FREQ=YEARLY;BYMONTH=3;BYDAY=2SU
DTSTART:20070101T000000
TZOFFSETFROM:-0500
TZOFFSETTO:-0400
TZNAME:Eastern Daylight Time
END:DAYLIGHT
BEGIN:STANDARD
RRULE:FREQ=YEARLY;BYMONTH=11;BYDAY=1SU
DTSTART:20070101T000000
TZOFFSETFROM:-0400
TZOFFSETTO:-0500
TZNAME:Eastern Standard Time
END:STANDARD
END:VTIMEZONE
BEGIN:VEVENT
DTSTART;TZID=America/New_York:20260414T120000
DTEND;TZID=America/New_York:20260414T150000
X-MICROSOFT-CDO-ALLDAYEVENT:FALSE
SUMMARY:CLE
DESCRIPTION:12:00-1:00		The Ten Commandments for Appellate Brief Writing and Oral Argument (1 ETH)\n1:00-2:00		Pardons In Pennsylvania (1 SUB)\n2:00-3:00		Workers’ Compensation & Family Law Updates (1 SUB)
X-ALT-DESC;FMTTYPE=text/html:12:00-1:00		The Ten Commandments for Appellate Brief Writing and Oral Argument (1 ETH)\n1:00-2:00		Pardons In Pennsylvania (1 SUB)\n2:00-3:00		Workers’ Compensation & Family Law Updates (1 SUB)
LOCATION:233 Penn Avenue Scranton PA 18503
UID:e.2531.1442697
SEQUENCE:3
DTSTAMP:20260420T184557Z
URL:https://members.lackawannabar.org/cle-events/Details/cle-1708760?sourceTypeId=Hub
END:VEVENT
END:VCALENDAR
